BEGIN:VCALENDAR
VERSION:2.0
PRODID:-//Out of the Pits - and into your hearts! | Pit Bull Dog Rescue based out of Albany NY - ECPv6.1.2.2//NONSGML v1.0//EN
CALSCALE:GREGORIAN
METHOD:PUBLISH
X-ORIGINAL-URL:https://outofthepits.org
X-WR-CALDESC:Events for Out of the Pits - and into your hearts! | Pit Bull Dog Rescue based out of Albany NY
REFRESH-INTERVAL;VALUE=DURATION:PT1H
X-Robots-Tag:noindex
X-PUBLISHED-TTL:PT1H
BEGIN:VTIMEZONE
TZID:America/New_York
BEGIN:DAYLIGHT
TZOFFSETFROM:-0500
TZOFFSETTO:-0400
TZNAME:EDT
DTSTART:20260308T070000
END:DAYLIGHT
BEGIN:STANDARD
TZOFFSETFROM:-0400
TZOFFSETTO:-0500
TZNAME:EST
DTSTART:20261101T060000
END:STANDARD
END:VTIMEZONE
BEGIN:VEVENT
DTSTART;TZID=America/New_York:20260517T130000
DTEND;TZID=America/New_York:20260517T150000
DTSTAMP:20260421T084759
CREATED:20250527T191216Z
LAST-MODIFIED:20260323T204935Z
UID:6381-1779022800-1779030000@outofthepits.org
SUMMARY:Adoption Clinic at Boathouse Grille
DESCRIPTION:  \n\nJoin us for an adoption clinic on Sunday\, May 17th from 1-3PM at the Boathouse Grille and meet our amazing adopt-a-bull dogs!\n\n\n\n\nThere will also be OOTP merchandise and a bake sale with all proceeds going to support the rescue. Keep an eye on our Facebook page as the date gets closer to see which dogs will be attending.
URL:https://outofthepits.org/events/adoption-clinic-at-boathouse-grille/
LOCATION:Boathouse Grille\, 80 Shady Harbor Dr\, New Baltimore\, NY\, 12124\, United States
CATEGORIES:Adoption Clinic
END:VEVENT
BEGIN:VEVENT
DTSTART;TZID=America/New_York:20260531T090000
DTEND;TZID=America/New_York:20260531T140000
DTSTAMP:20260421T084759
CREATED:20210426T123142Z
LAST-MODIFIED:20260322T223858Z
UID:1880-1780218000-1780236000@outofthepits.org
SUMMARY:Pay It Forward Yard Sale
DESCRIPTION:Visit our annual Yard Sale with all proceeds benefiting Out of the Pits.  There will be gently used items\, kids toys\, home décor\, and various other items. We will also have OOTP merchandise for sale\, a bake sale\, and adoptable dogs for a period of time.\n\nCheck our Facebook page to see which dogs will be attending and at what time.\n\n\nOOTP is run entirely by volunteers which means all money raised from our fundraising events goes directly to the care of our dogs.  Thank you for your support!
URL:https://outofthepits.org/events/pay-it-forward-yard-sale/
LOCATION:Brunswick Harley Davidson\, 1130 Hoosick Rd\, Troy\, NY\, 12180\, United States
CATEGORIES:Adoption Clinic,Event
END:VEVENT
BEGIN:VEVENT
DTSTART;TZID=America/New_York:20260606T120000
DTEND;TZID=America/New_York:20260606T140000
DTSTAMP:20260421T084759
CREATED:20240413T132846Z
LAST-MODIFIED:20260419T192823Z
UID:5278-1780747200-1780754400@outofthepits.org
SUMMARY:Woofs & Wags Pop Up Shop
DESCRIPTION:OOTP will be attending the Woofs & Wags Pop Up Shop hosted by JB Enterprises on June 6th\, from 12pm-2pm with our adopt-a-bull dogs and OOTP merchandise. \n  \nCheck our Facebook page as we get closer to the event to see which of our dogs will be attending.
URL:https://outofthepits.org/events/woofs-wags-pop-up-shop/
LOCATION:Colonie Center\, 131 Colonie Center\, Albany\, NY\, United States
CATEGORIES:Adoption Clinic
END:VEVENT
BEGIN:VEVENT
DTSTART;TZID=America/New_York:20260614T120000
DTEND;TZID=America/New_York:20260614T150000
DTSTAMP:20260421T084759
CREATED:20260419T193016Z
LAST-MODIFIED:20260419T193016Z
UID:7227-1781438400-1781449200@outofthepits.org
SUMMARY:Dog Days of Cider
DESCRIPTION:  \nDog Days of Cider!\n\nJoin us Sunday\, June 14th from 12-3PM for a fundraising event with OOTP\, Nine Pin Cider\, Amy Z Photography and Dog Den Bake Shop.\n\n A $5 donation at the door gets you 20% off 6oz and 12oz cider pours Grab some homemade goodies for your pup from Dog Den Bake Shop Bring your dog for a mini photo session with Amy Z Photography — $60 gets you a 10-minute session + 1 digital image\, and 50% of proceeds go to OOTP Enjoy raffle baskets and shop OOTP merchandise\n\nSip some cider\, spoil your pup\, and support rescue dogs all in one afternoon 
URL:https://outofthepits.org/events/dog-days-of-cider/
LOCATION:Nine Pin Cider Works\, 929 Broadway\, Albany\, NY\, United States
CATEGORIES:Event
END:VEVENT
END:VCALENDAR