BEGIN:VCALENDAR
VERSION:2.0
PRODID:-//Out of the Pits - and into your hearts! | Pit Bull Dog Rescue based out of Albany NY - ECPv6.1.2.2//NONSGML v1.0//EN
CALSCALE:GREGORIAN
METHOD:PUBLISH
X-WR-CALNAME:Out of the Pits - and into your hearts! | Pit Bull Dog Rescue based out of Albany NY
X-ORIGINAL-URL:https://outofthepits.org
X-WR-CALDESC:Events for Out of the Pits - and into your hearts! | Pit Bull Dog Rescue based out of Albany NY
REFRESH-INTERVAL;VALUE=DURATION:PT1H
X-Robots-Tag:noindex
X-PUBLISHED-TTL:PT1H
BEGIN:VTIMEZONE
TZID:America/New_York
BEGIN:DAYLIGHT
TZOFFSETFROM:-0500
TZOFFSETTO:-0400
TZNAME:EDT
DTSTART:20250309T070000
END:DAYLIGHT
BEGIN:STANDARD
TZOFFSETFROM:-0400
TZOFFSETTO:-0500
TZNAME:EST
DTSTART:20251102T060000
END:STANDARD
END:VTIMEZONE
BEGIN:VEVENT
DTSTART;TZID=America/New_York:20251108T120000
DTEND;TZID=America/New_York:20251108T140000
DTSTAMP:20260423T104657
CREATED:20250916T180330Z
LAST-MODIFIED:20250916T180330Z
UID:6678-1762603200-1762610400@outofthepits.org
SUMMARY:Pancakes with Pit Bulls
DESCRIPTION:Join us at the Gateway Diner for an adoption clinic and pancake fundraiser! Our adoption clinic will be held from 12pm-2pm on Saturday November 8th.\n\nAnyone who orders Pancakes on November 8\, The Gateway will donate $2 towards OOTP. And there’s more\, too busy on November 8? That’s alright! You can stop in during the entire month of November and donate to OOTP to help support our many foster pups health\, food and more until they are put into their furever home.
URL:https://outofthepits.org/events/pancakes-with-pit-bulls/
LOCATION:Gateway Diner\, 899 Central Ave\, Albany\, NY\, 12206\, United States
CATEGORIES:Adoption Clinic,Event
END:VEVENT
END:VCALENDAR