BEGIN:VCALENDAR
VERSION:2.0
PRODID:-//Out of the Pits - and into your hearts! | Pit Bull Dog Rescue based out of Albany NY - ECPv6.1.2.2//NONSGML v1.0//EN
CALSCALE:GREGORIAN
METHOD:PUBLISH
X-ORIGINAL-URL:https://outofthepits.org
X-WR-CALDESC:Events for Out of the Pits - and into your hearts! | Pit Bull Dog Rescue based out of Albany NY
REFRESH-INTERVAL;VALUE=DURATION:PT1H
X-Robots-Tag:noindex
X-PUBLISHED-TTL:PT1H
BEGIN:VTIMEZONE
TZID:America/New_York
BEGIN:DAYLIGHT
TZOFFSETFROM:-0500
TZOFFSETTO:-0400
TZNAME:EDT
DTSTART:20250309T070000
END:DAYLIGHT
BEGIN:STANDARD
TZOFFSETFROM:-0400
TZOFFSETTO:-0500
TZNAME:EST
DTSTART:20251102T060000
END:STANDARD
END:VTIMEZONE
BEGIN:VEVENT
DTSTART;TZID=America/New_York:20251101T110000
DTEND;TZID=America/New_York:20251101T140000
DTSTAMP:20260423T072537
CREATED:20250918T204155Z
LAST-MODIFIED:20250918T204155Z
UID:6699-1761994800-1762005600@outofthepits.org
SUMMARY:OOTP Adoption Clinic at Colonie Center
DESCRIPTION:  \nOut of the Pits will be joining JB Enterprise’s Sip\, Shop\, and Connect event on November 1\, 2025\, 11am – 2pm at Colonie Center for an adoption clinic. \n  \nCome see our adopt-a-bull dogs and the other vendors in attendance.  Check our Facebook page as we get closer to the event to see which of our dogs will be attending.
URL:https://outofthepits.org/events/ootp-adoption-clinic-at-colonie-center/
LOCATION:Colonie Center\, 131 Colonie Center\, Albany\, NY\, United States
CATEGORIES:Adoption Clinic
END:VEVENT
END:VCALENDAR