BEGIN:VCALENDAR
VERSION:2.0
PRODID:-//Out of the Pits - and into your hearts! | Pit Bull Dog Rescue based out of Albany NY - ECPv6.1.2.2//NONSGML v1.0//EN
CALSCALE:GREGORIAN
METHOD:PUBLISH
X-WR-CALNAME:Out of the Pits - and into your hearts! | Pit Bull Dog Rescue based out of Albany NY
X-ORIGINAL-URL:https://outofthepits.org
X-WR-CALDESC:Events for Out of the Pits - and into your hearts! | Pit Bull Dog Rescue based out of Albany NY
REFRESH-INTERVAL;VALUE=DURATION:PT1H
X-Robots-Tag:noindex
X-PUBLISHED-TTL:PT1H
BEGIN:VTIMEZONE
TZID:America/New_York
BEGIN:DAYLIGHT
TZOFFSETFROM:-0500
TZOFFSETTO:-0400
TZNAME:EDT
DTSTART:20230312T070000
END:DAYLIGHT
BEGIN:STANDARD
TZOFFSETFROM:-0400
TZOFFSETTO:-0500
TZNAME:EST
DTSTART:20231105T060000
END:STANDARD
END:VTIMEZONE
BEGIN:VEVENT
DTSTART;TZID=America/New_York:20230708T120000
DTEND;TZID=America/New_York:20230708T140000
DTSTAMP:20260424T134348
CREATED:20230703T130707Z
LAST-MODIFIED:20230703T130707Z
UID:4175-1688817600-1688824800@outofthepits.org
SUMMARY:Adoption Clinic
DESCRIPTION:We’re having an adoption clinic on Saturday July 8th at Healthy Pet Center in Latham from 12pm-2pm!\n\nThis is a great opportunity to come meet our adopt-a-bull dogs who are looking for their forever homes.\n\nPlease check out our website to see our adoption application
URL:https://outofthepits.org/events/adoption-clinic-6/
LOCATION:Healthy Pet Center Latham\, 775 New Loudon Rd\, Latham\, NY\, 12110\, United States
CATEGORIES:Adoption Clinic
END:VEVENT
END:VCALENDAR