BEGIN:VCALENDAR
VERSION:2.0
PRODID:-//Out of the Pits - and into your hearts! | Pit Bull Dog Rescue based out of Albany NY - ECPv6.1.2.2//NONSGML v1.0//EN
CALSCALE:GREGORIAN
METHOD:PUBLISH
X-WR-CALNAME:Out of the Pits - and into your hearts! | Pit Bull Dog Rescue based out of Albany NY
X-ORIGINAL-URL:https://outofthepits.org
X-WR-CALDESC:Events for Out of the Pits - and into your hearts! | Pit Bull Dog Rescue based out of Albany NY
REFRESH-INTERVAL;VALUE=DURATION:PT1H
X-Robots-Tag:noindex
X-PUBLISHED-TTL:PT1H
BEGIN:VTIMEZONE
TZID:America/New_York
BEGIN:DAYLIGHT
TZOFFSETFROM:-0500
TZOFFSETTO:-0400
TZNAME:EDT
DTSTART:20220313T070000
END:DAYLIGHT
BEGIN:STANDARD
TZOFFSETFROM:-0400
TZOFFSETTO:-0500
TZNAME:EST
DTSTART:20221106T060000
END:STANDARD
END:VTIMEZONE
BEGIN:VEVENT
DTSTART;TZID=America/New_York:20220130T110000
DTEND;TZID=America/New_York:20220130T140000
DTSTAMP:20260424T150342
CREATED:20220110T140104Z
LAST-MODIFIED:20220110T140104Z
UID:2613-1643540400-1643551200@outofthepits.org
SUMMARY:Pucks for Paws Hockey Tournament
DESCRIPTION:We are the beneficiaries of the Pucks for Paws Hockey Tournament put on by the Albany Angels at Clifton Park Ice Arena\nThe tournament goes all weekend but we will be there on Sunday 1/30 from 11am-2pm with product and a special guest.\n\n\n\n\n\n\n\n\n\n\n\n\n\n\n\n\n\n\n\n\n\n\n\nThe tournament has raffle baskets and is collecting donations to raise money for OOTP
URL:https://outofthepits.org/events/pucks-for-paws-hockey-tournament/
LOCATION:Clifton Park Ice Arena\, 16 Clifton Common Blvd\, Clifton Park\, NY\, 12065\, United States
END:VEVENT
END:VCALENDAR